Workbook

Sheet DADOS MYLAPS
A2: 0.017685185
A4: DADOS MYLAPS
B6: ORDEM CRESCENTE
A7: BIB | B7: TEMPO FINAL | C7: NOME | D7: EQUIPA | E7: competição F/M/MX | H7: S
A8: 117A | B8: 0.0246875 | C8: Duarte Câmara | D8: Clube Desportivo Escola Santana | H8: 117A
A9: 124A | B9: 0.027569444 | C9: Miguel Caires | D9: Ludens Machico - Hospital Particular da Madeira | H9: 117B
A10: 117B | B10: 0.051921296 | C10: Alícia Freitas | D10: Clube Desportivo Escola Santana | H10: 117C
A11: 124B | B11: 0.058726852 | C11: Vânia Rodrigues | D11: Grupo Desportivo Corticeiras/G-CET | H11: 124A
A12: 117C | B12: 0.084039352 | C12: Márcia Caldeira | D12: Clube Desportivo Escola Santana | H12: 124B
A13: 124C | B13: 0.09025463 | C13: Carlos Nogueira | D13: Ludens Machico - Hospital Particular da Madeira | H13: 124C

Sheet Folha2
E3: S
E4: 117A | F4: 0.0246875 | G4: Duarte Câmara | H4: Clube Desportivo Escola Santana
E5: 124A | F5: 0.027569444 | G5: Miguel Caires | H5: Ludens Machico - Hospital Particular da Madeira
E6: 117B | F6: 0.051921296 | G6: Alícia Freitas | H6: Clube Desportivo Escola Santana
E7: 124B | F7: 0.058726852 | G7: Vânia Rodrigues | H7: Grupo Desportivo Corticeiras/G-CET
E8: 117C | F8: 0.084039352 | G8: Márcia Caldeira | H8: Clube Desportivo Escola Santana
E9: 124C | F9: 0.09025463 | G9: Carlos Nogueira | H9: Ludens Machico - Hospital Particular da Madeira

Sheet FINAL
M6: OCULTAR | P6: OCULTAR
I7: EQUIPA | J7: ORDEM | K7: BIB | L7: NOME | M7: TEMPO TOTAL | N7: TEMPO INDIVIDUAL | O7: TEMPO EQUIPA | Q7: DIFª
I8: =IF(K8="","",VLOOKUP($K8,'DADOS MYLAPS'!$A$8:$D$207,4,FALSE)) -> Clube Desportivo Escola Santana | J8: =IF(K8="","",RANK(P8,$O$8:$O$157,1)) -> 1 | K8: 117A | L8: =IF(K8="","",VLOOKUP($K8,'DADOS MYLAPS'!$A$8:$D$207,3,FALSE)) -> Duarte Câmara | M8: =IF($K8="","",VLOOKUP($K8,'DADOS MYLAPS'!$A$8:$C$207,2,FALSE)) -> 0.0246875 | N8: =IF($K8="","",+M8) -> 0.0246875 | P8: =SUM(N8:N10) -> 0.084039352
I9: =IF(K9="","",VLOOKUP($K9,'DADOS MYLAPS'!$A$8:$D$207,4,FALSE)) -> Clube Desportivo Escola Santana | J9: =IF(K9="","",RANK(P9,$O$8:$O$157,1)) -> 1 | K9: 117B | L9: =IF(K9="","",VLOOKUP($K9,'DADOS MYLAPS'!$A$8:$D$207,3,FALSE)) -> Alícia Freitas | M9: =IF($K9="","",VLOOKUP($K9,'DADOS MYLAPS'!$A$8:$C$207,2,FALSE)) -> 0.051921296 | N9: =IF($K9="","",+M9-M8) -> 0.027233796 | P9: =SUM(N8:N10) -> 0.084039352
I10: =IF(K10="","",VLOOKUP($K10,'DADOS MYLAPS'!$A$8:$D$207,4,FALSE)) -> Clube Desportivo Escola Santana | J10: =IF(K10="","",RANK(P10,$O$8:$O$157,1)) -> 1 | K10: 117C | L10: =IF(K10="","",VLOOKUP($K10,'DADOS MYLAPS'!$A$8:$D$207,3,FALSE)) -> Márcia Caldeira | M10: =IF($K10="","",VLOOKUP($K10,'DADOS MYLAPS'!$A$8:$C$207,2,FALSE)) -> 0.084039352 | N10: =IF($K10="","",+M10-M9) -> 0.032118056 | O10: =IF(K8="","",IF(SUM(N8:N10)=0,"",SUM(N8:N10))) -> 0.084039352 | P10: =SUM(N8:N10) -> 0.084039352 | Q10: 0
I11: =IF(K11="","",VLOOKUP($K11,'DADOS MYLAPS'!$A$8:$D$207,4,FALSE)) -> Ludens Machico - Hospital Particular da Madeira | J11: =IF(K11="","",RANK(P11,$O$8:$O$157,1)) -> 2 | K11: 124A | L11: =IF(K11="","",VLOOKUP($K11,'DADOS MYLAPS'!$A$8:$D$207,3,FALSE)) -> Miguel Caires | M11: =IF($K11="","",VLOOKUP($K11,'DADOS MYLAPS'!$A$8:$C$207,2,FALSE)) -> 0.027569444 | N11: =IF($K11="","",+M11) -> 0.027569444 | P11: =SUM(N11:N13) -> 0.09025463
I12: =IF(K12="","",VLOOKUP($K12,'DADOS MYLAPS'!$A$8:$D$207,4,FALSE)) -> Grupo Desportivo Corticeiras/G-CET | J12: =IF(K12="","",RANK(P12,$O$8:$O$157,1)) -> 2 | K12: 124B | L12: =IF(K12="","",VLOOKUP($K12,'DADOS MYLAPS'!$A$8:$D$207,3,FALSE)) -> Vânia Rodrigues | M12: =IF($K12="","",VLOOKUP($K12,'DADOS MYLAPS'!$A$8:$C$207,2,FALSE)) -> 0.058726852 | N12: =IF($K12="","",+M12-M11) -> 0.031157407 | P12: =SUM(N11:N13) -> 0.09025463
I13: =IF(K13="","",VLOOKUP($K13,'DADOS MYLAPS'!$A$8:$D$207,4,FALSE)) -> Ludens Machico - Hospital Particular da Madeira | J13: =IF(K13="","",RANK(P13,$O$8:$O$157,1)) -> 2 | K13: 124C | L13: =IF(K13="","",VLOOKUP($K13,'DADOS MYLAPS'!$A$8:$D$207,3,FALSE)) -> Carlos Nogueira | M13: =IF($K13="","",VLOOKUP($K13,'DADOS MYLAPS'!$A$8:$C$207,2,FALSE)) -> 0.09025463 | N13: =IF($K13="","",+M13-M12) -> 0.031527778 | O13: =IF(K11="","",IF(SUM(N11:N13)=0,"",SUM(N11:N13))) -> 0.09025463 | P13: =SUM(N11:N13) -> 0.09025463 | Q13: =IF(K11="","",+O13-$O$10) -> 0.0062152778
I14: =IF(K14="","",VLOOKUP($K14,'DADOS MYLAPS'!$A$8:$D$207,4,FALSE)) | J14: =IF(K14="","",RANK(P14,$O$8:$O$157,1)) | L14: =IF(K14="","",VLOOKUP($K14,'DADOS MYLAPS'!$A$8:$D$207,3,FALSE)) | M14: =IF($K14="","",VLOOKUP($K14,'DADOS MYLAPS'!$A$8:$C$207,2,FALSE)) | N14: =IF($K14="","",+M14) | P14: =SUM(N14:N16) -> 0
I15: =IF(K15="","",VLOOKUP($K15,'DADOS MYLAPS'!$A$8:$D$207,4,FALSE)) | J15: =IF(K15="","",RANK(P15,$O$8:$O$157,1)) | L15: =IF(K15="","",VLOOKUP($K15,'DADOS MYLAPS'!$A$8:$D$207,3,FALSE)) | M15: =IF($K15="","",VLOOKUP($K15,'DADOS MYLAPS'!$A$8:$C$207,2,FALSE)) | N15: =IF($K15="","",+M15-M14) | P15: =SUM(N14:N16) -> 0
I16: =IF(K16="","",VLOOKUP($K16,'DADOS MYLAPS'!$A$8:$D$207,4,FALSE)) | J16: =IF(K16="","",RANK(P16,$O$8:$O$157,1)) | L16: =IF(K16="","",VLOOKUP($K16,'DADOS MYLAPS'!$A$8:$D$207,3,FALSE)) | M16: =IF($K16="","",VLOOKUP($K16,'DADOS MYLAPS'!$A$8:$C$207,2,FALSE)) | N16: =IF($K16="","",+M16-M15) | O16: =IF(K14="","",IF(SUM(N14:N16)=0,"",SUM(N14:N16))) | P16: =SUM(N14:N16) -> 0 | Q16: =IF(K14="","",+O16-$O$10)
I17: =IF(K17="","",VLOOKUP($K17,'DADOS MYLAPS'!$A$8:$D$207,4,FALSE)) | J17: =IF(K17="","",RANK(P17,$O$8:$O$157,1)) | L17: =IF(K17="","",VLOOKUP($K17,'DADOS MYLAPS'!$A$8:$D$207,3,FALSE)) | M17: =IF($K17="","",VLOOKUP($K17,'DADOS MYLAPS'!$A$8:$C$207,2,FALSE)) | N17: =IF($K17="","",+M17) | P17: =SUM(N17:N19) -> 0
I18: =IF(K18="","",VLOOKUP($K18,'DADOS MYLAPS'!$A$8:$D$207,4,FALSE)) | J18: =IF(K18="","",RANK(P18,$O$8:$O$157,1)) | L18: =IF(K18="","",VLOOKUP($K18,'DADOS MYLAPS'!$A$8:$D$207,3,FALSE)) | M18: =IF($K18="","",VLOOKUP($K18,'DADOS MYLAPS'!$A$8:$C$207,2,FALSE)) | N18: =IF($K18="","",+M18-M17) | P18: =SUM(N17:N19) -> 0
I19: =IF(K19="","",VLOOKUP($K19,'DADOS MYLAPS'!$A$8:$D$207,4,FALSE)) | J19: =IF(K19="","",RANK(P19,$O$8:$O$157,1)) | L19: =IF(K19="","",VLOOKUP($K19,'DADOS MYLAPS'!$A$8:$D$207,3,FALSE)) | M19: =IF($K19="","",VLOOKUP($K19,'DADOS MYLAPS'!$A$8:$C$207,2,FALSE)) | N19: =IF($K19="","",+M19-M18) | O19: =IF(K17="","",IF(SUM(N17:N19)=0,"",SUM(N17:N19))) | P19: =SUM(N17:N19) -> 0 | Q19: =IF(K17="","",+O19-$O$10)
I20: =IF(K20="","",VLOOKUP($K20,'DADOS MYLAPS'!$A$8:$D$207,4,FALSE)) | J20: =IF(K20="","",RANK(P20,$O$8:$O$157,1)) | L20: =IF(K20="","",VLOOKUP($K20,'DADOS MYLAPS'!$A$8:$D$207,3,FALSE)) | M20: =IF($K20="","",VLOOKUP($K20,'DADOS MYLAPS'!$A$8:$C$207,2,FALSE)) | N20: =IF($K20="","",+M20) | P20: =SUM(N20:N22) -> 0
I21: =IF(K21="","",VLOOKUP($K21,'DADOS MYLAPS'!$A$8:$D$207,4,FALSE)) | J21: =IF(K21="","",RANK(P21,$O$8:$O$157,1)) | L21: =IF(K21="","",VLOOKUP($K21,'DADOS MYLAPS'!$A$8:$D$207,3,FALSE)) | M21: =IF($K21="","",VLOOKUP($K21,'DADOS MYLAPS'!$A$8:$C$207,2,FALSE)) | N21: =IF($K21="","",+M21-M20) | P21: =SUM(N20:N22) -> 0
I22: =IF(K22="","",VLOOKUP($K22,'DADOS MYLAPS'!$A$8:$D$207,4,FALSE)) | J22: =IF(K22="","",RANK(P22,$O$8:$O$157,1)) | L22: =IF(K22="","",VLOOKUP($K22,'DADOS MYLAPS'!$A$8:$D$207,3,FALSE)) | M22: =IF($K22="","",VLOOKUP($K22,'DADOS MYLAPS'!$A$8:$C$207,2,FALSE)) | N22: =IF($K22="","",+M22-M21) | O22: =IF(K20="","",IF(SUM(N20:N22)=0,"",SUM(N20:N22))) | P22: =SUM(N20:N22) -> 0 | Q22: =IF(K20="","",+O22-$O$10)
I23: =IF(K23="","",VLOOKUP($K23,'DADOS MYLAPS'!$A$8:$D$207,4,FALSE)) | J23: =IF(K23="","",RANK(P23,$O$8:$O$157,1)) | L23: =IF(K23="","",VLOOKUP($K23,'DADOS MYLAPS'!$A$8:$D$207,3,FALSE)) | M23: =IF($K23="","",VLOOKUP($K23,'DADOS MYLAPS'!$A$8:$C$207,2,FALSE)) | N23: =IF($K23="","",+M23) | P23: =SUM(N23:N25) -> 0
I24: =IF(K24="","",VLOOKUP($K24,'DADOS MYLAPS'!$A$8:$D$207,4,FALSE)) | J24: =IF(K24="","",RANK(P24,$O$8:$O$157,1)) | L24: =IF(K24="","",VLOOKUP($K24,'DADOS MYLAPS'!$A$8:$D$207,3,FALSE)) | M24: =IF($K24="","",VLOOKUP($K24,'DADOS MYLAPS'!$A$8:$C$207,2,FALSE)) | N24: =IF($K24="","",+M24-M23) | P24: =SUM(N23:N25) -> 0
I25: =IF(K25="","",VLOOKUP($K25,'DADOS MYLAPS'!$A$8:$D$207,4,FALSE)) | J25: =IF(K25="","",RANK(P25,$O$8:$O$157,1)) | L25: =IF(K25="","",VLOOKUP($K25,'DADOS MYLAPS'!$A$8:$D$207,3,FALSE)) | M25: =IF($K25="","",VLOOKUP($K25,'DADOS MYLAPS'!$A$8:$C$207,2,FALSE)) | N25: =IF($K25="","",+M25-M24) | O25: =IF(K23="","",IF(SUM(N23:N25)=0,"",SUM(N23:N25))) | P25: =SUM(N23:N25) -> 0 | Q25: =IF(K23="","",+O25-$O$10)
I26: =IF(K26="","",VLOOKUP($K26,'DADOS MYLAPS'!$A$8:$D$207,4,FALSE)) | J26: =IF(K26="","",RANK(P26,$O$8:$O$157,1)) | L26: =IF(K26="","",VLOOKUP($K26,'DADOS MYLAPS'!$A$8:$D$207,3,FALSE)) | M26: =IF($K26="","",VLOOKUP($K26,'DADOS MYLAPS'!$A$8:$C$207,2,FALSE)) | N26: =IF($K26="","",+M26) | P26: =SUM(N26:N28) -> 0
I27: =IF(K27="","",VLOOKUP($K27,'DADOS MYLAPS'!$A$8:$D$207,4,FALSE)) | J27: =IF(K27="","",RANK(P27,$O$8:$O$157,1)) | L27: =IF(K27="","",VLOOKUP($K27,'DADOS MYLAPS'!$A$8:$D$207,3,FALSE)) | M27: =IF($K27="","",VLOOKUP($K27,'DADOS MYLAPS'!$A$8:$C$207,2,FALSE)) | N27: =IF($K27="","",+M27-M26) | P27: =SUM(N26:N28) -> 0
I28: =IF(K28="","",VLOOKUP($K28,'DADOS MYLAPS'!$A$8:$D$207,4,FALSE)) | J28: =IF(K28="","",RANK(P28,$O$8:$O$157,1)) | L28: =IF(K28="","",VLOOKUP($K28,'DADOS MYLAPS'!$A$8:$D$207,3,FALSE)) | M28: =IF($K28="","",VLOOKUP($K28,'DADOS MYLAPS'!$A$8:$C$207,2,FALSE)) | N28: =IF($K28="","",+M28-M27) | O28: =IF(K26="","",IF(SUM(N26:N28)=0,"",SUM(N26:N28))) | P28: =SUM(N26:N28) -> 0 | Q28: =IF(K26="","",+O28-$O$10)
I29: =IF(K29="","",VLOOKUP($K29,'DADOS MYLAPS'!$A$8:$D$207,4,FALSE)) | J29: =IF(K29="","",RANK(P29,$O$8:$O$157,1)) | L29: =IF(K29="","",VLOOKUP($K29,'DADOS MYLAPS'!$A$8:$D$207,3,FALSE)) | M29: =IF($K29="","",VLOOKUP($K29,'DADOS MYLAPS'!$A$8:$C$207,2,FALSE)) | N29: =IF($K29="","",+M29) | P29: =SUM(N29:N31) -> 0
I30: =IF(K30="","",VLOOKUP($K30,'DADOS MYLAPS'!$A$8:$D$207,4,FALSE)) | J30: =IF(K30="","",RANK(P30,$O$8:$O$157,1)) | L30: =IF(K30="","",VLOOKUP($K30,'DADOS MYLAPS'!$A$8:$D$207,3,FALSE)) | M30: =IF($K30="","",VLOOKUP($K30,'DADOS MYLAPS'!$A$8:$C$207,2,FALSE)) | N30: =IF($K30="","",+M30-M29) | P30: =SUM(N29:N31) -> 0
I31: =IF(K31="","",VLOOKUP($K31,'DADOS MYLAPS'!$A$8:$D$207,4,FALSE)) | J31: =IF(K31="","",RANK(P31,$O$8:$O$157,1)) | L31: =IF(K31="","",VLOOKUP($K31,'DADOS MYLAPS'!$A$8:$D$207,3,FALSE)) | M31: =IF($K31="","",VLOOKUP($K31,'DADOS MYLAPS'!$A$8:$C$207,2,FALSE)) | N31: =IF($K31="","",+M31-M30) | O31: =IF(K29="","",IF(SUM(N29:N31)=0,"",SUM(N29:N31))) | P31: =SUM(N29:N31) -> 0 | Q31: =IF(K29="","",+O31-$O$10)
I32: =IF(K32="","",VLOOKUP($K32,'DADOS MYLAPS'!$A$8:$D$207,4,FALSE)) | J32: =IF(K32="","",RANK(P32,$O$8:$O$157,1)) | L32: =IF(K32="","",VLOOKUP($K32,'DADOS MYLAPS'!$A$8:$D$207,3,FALSE)) | M32: =IF($K32="","",VLOOKUP($K32,'DADOS MYLAPS'!$A$8:$C$207,2,FALSE)) | N32: =IF($K32="","",+M32) | P32: =SUM(N32:N34) -> 0
I33: =IF(K33="","",VLOOKUP($K33,'DADOS MYLAPS'!$A$8:$D$207,4,FALSE)) | J33: =IF(K33="","",RANK(P33,$O$8:$O$157,1)) | L33: =IF(K33="","",VLOOKUP($K33,'DADOS MYLAPS'!$A$8:$D$207,3,FALSE)) | M33: =IF($K33="","",VLOOKUP($K33,'DADOS MYLAPS'!$A$8:$C$207,2,FALSE)) | N33: =IF($K33="","",+M33-M32) | P33: =SUM(N32:N34) -> 0
I34: =IF(K34="","",VLOOKUP($K34,'DADOS MYLAPS'!$A$8:$D$207,4,FALSE)) | J34: =IF(K34="","",RANK(P34,$O$8:$O$157,1)) | L34: =IF(K34="","",VLOOKUP($K34,'DADOS MYLAPS'!$A$8:$D$207,3,FALSE)) | M34: =IF($K34="","",VLOOKUP($K34,'DADOS MYLAPS'!$A$8:$C$207,2,FALSE)) | N34: =IF($K34="","",+M34-M33) | O34: =IF(K32="","",IF(SUM(N32:N34)=0,"",SUM(N32:N34))) | P34: =SUM(N32:N34) -> 0 | Q34: =IF(K32="","",+O34-$O$10)
I35: =IF(K35="","",VLOOKUP($K35,'DADOS MYLAPS'!$A$8:$D$207,4,FALSE)) | J35: =IF(K35="","",RANK(P35,$O$8:$O$157,1)) | L35: =IF(K35="","",VLOOKUP($K35,'DADOS MYLAPS'!$A$8:$D$207,3,FALSE)) | M35: =IF($K35="","",VLOOKUP($K35,'DADOS MYLAPS'!$A$8:$C$207,2,FALSE)) | N35: =IF($K35="","",+M35) | P35: =SUM(N35:N37) -> 0
I36: =IF(K36="","",VLOOKUP($K36,'DADOS MYLAPS'!$A$8:$D$207,4,FALSE)) | J36: =IF(K36="","",RANK(P36,$O$8:$O$157,1)) | L36: =IF(K36="","",VLOOKUP($K36,'DADOS MYLAPS'!$A$8:$D$207,3,FALSE)) | M36: =IF($K36="","",VLOOKUP($K36,'DADOS MYLAPS'!$A$8:$C$207,2,FALSE)) | N36: =IF($K36="","",+M36-M35) | P36: =SUM(N35:N37) -> 0
I37: =IF(K37="","",VLOOKUP($K37,'DADOS MYLAPS'!$A$8:$D$207,4,FALSE)) | J37: =IF(K37="","",RANK(P37,$O$8:$O$157,1)) | L37: =IF(K37="","",VLOOKUP($K37,'DADOS MYLAPS'!$A$8:$D$207,3,FALSE)) | M37: =IF($K37="","",VLOOKUP($K37,'DADOS MYLAPS'!$A$8:$C$207,2,FALSE)) | N37: =IF($K37="","",+M37-M36) | O37: =IF(K35="","",IF(SUM(N35:N37)=0,"",SUM(N35:N37))) | P37: =SUM(N35:N37) -> 0 | Q37: =IF(K35="","",+O37-$O$10)
I38: =IF(K38="","",VLOOKUP($K38,'DADOS MYLAPS'!$A$8:$D$207,4,FALSE)) | J38: =IF(K38="","",RANK(P38,$O$8:$O$157,1)) | L38: =IF(K38="","",VLOOKUP($K38,'DADOS MYLAPS'!$A$8:$D$207,3,FALSE)) | M38: =IF($K38="","",VLOOKUP($K38,'DADOS MYLAPS'!$A$8:$C$207,2,FALSE)) | N38: =IF($K38="","",+M38) | P38: =SUM(N38:N40) -> 0
I39: =IF(K39="","",VLOOKUP($K39,'DADOS MYLAPS'!$A$8:$D$207,4,FALSE)) | J39: =IF(K39="","",RANK(P39,$O$8:$O$157,1)) | L39: =IF(K39="","",VLOOKUP($K39,'DADOS MYLAPS'!$A$8:$D$207,3,FALSE)) | M39: =IF($K39="","",VLOOKUP($K39,'DADOS MYLAPS'!$A$8:$C$207,2,FALSE)) | N39: =IF($K39="","",+M39-M38) | P39: =SUM(N38:N40) -> 0
I40: =IF(K40="","",VLOOKUP($K40,'DADOS MYLAPS'!$A$8:$D$207,4,FALSE)) | J40: =IF(K40="","",RANK(P40,$O$8:$O$157,1)) | L40: =IF(K40="","",VLOOKUP($K40,'DADOS MYLAPS'!$A$8:$D$207,3,FALSE)) | M40: =IF($K40="","",VLOOKUP($K40,'DADOS MYLAPS'!$A$8:$C$207,2,FALSE)) | N40: =IF($K40="","",+M40-M39) | O40: =IF(K38="","",IF(SUM(N38:N40)=0,"",SUM(N38:N40))) | P40: =SUM(N38:N40) -> 0 | Q40: =IF(K38="","",+O40-$O$10)
I41: =IF(K41="","",VLOOKUP($K41,'DADOS MYLAPS'!$A$8:$D$207,4,FALSE)) | J41: =IF(K41="","",RANK(P41,$O$8:$O$157,1)) | L41: =IF(K41="","",VLOOKUP($K41,'DADOS MYLAPS'!$A$8:$D$207,3,FALSE)) | M41: =IF($K41="","",VLOOKUP($K41,'DADOS MYLAPS'!$A$8:$C$207,2,FALSE)) | N41: =IF($K41="","",+M41) | P41: =SUM(N41:N43) -> 0
I42: =IF(K42="","",VLOOKUP($K42,'DADOS MYLAPS'!$A$8:$D$207,4,FALSE)) | J42: =IF(K42="","",RANK(P42,$O$8:$O$157,1)) | L42: =IF(K42="","",VLOOKUP($K42,'DADOS MYLAPS'!$A$8:$D$207,3,FALSE)) | M42: =IF($K42="","",VLOOKUP($K42,'DADOS MYLAPS'!$A$8:$C$207,2,FALSE)) | N42: =IF($K42="","",+M42-M41) | P42: =SUM(N41:N43) -> 0
I43: =IF(K43="","",VLOOKUP($K43,'DADOS MYLAPS'!$A$8:$D$207,4,FALSE)) | J43: =IF(K43="","",RANK(P43,$O$8:$O$157,1)) | L43: =IF(K43="","",VLOOKUP($K43,'DADOS MYLAPS'!$A$8:$D$207,3,FALSE)) | M43: =IF($K43="","",VLOOKUP($K43,'DADOS MYLAPS'!$A$8:$C$207,2,FALSE)) | N43: =IF($K43="","",+M43-M42) | O43: =IF(K41="","",IF(SUM(N41:N43)=0,"",SUM(N41:N43))) | P43: =SUM(N41:N43) -> 0 | Q43: =IF(K41="","",+O43-$O$10)
I44: =IF(K44="","",VLOOKUP($K44,'DADOS MYLAPS'!$A$8:$D$207,4,FALSE)) | J44: =IF(K44="","",RANK(P44,$O$8:$O$157,1)) | L44: =IF(K44="","",VLOOKUP($K44,'DADOS MYLAPS'!$A$8:$D$207,3,FALSE)) | M44: =IF($K44="","",VLOOKUP($K44,'DADOS MYLAPS'!$A$8:$C$207,2,FALSE)) | N44: =IF($K44="","",+M44) | P44: =SUM(N44:N46) -> 0
I45: =IF(K45="","",VLOOKUP($K45,'DADOS MYLAPS'!$A$8:$D$207,4,FALSE)) | J45: =IF(K45="","",RANK(P45,$O$8:$O$157,1)) | L45: =IF(K45="","",VLOOKUP($K45,'DADOS MYLAPS'!$A$8:$D$207,3,FALSE)) | M45: =IF($K45="","",VLOOKUP($K45,'DADOS MYLAPS'!$A$8:$C$207,2,FALSE)) | N45: =IF($K45="","",+M45-M44) | P45: =SUM(N44:N46) -> 0
I46: =IF(K46="","",VLOOKUP($K46,'DADOS MYLAPS'!$A$8:$D$207,4,FALSE)) | J46: =IF(K46="","",RANK(P46,$O$8:$O$157,1)) | L46: =IF(K46="","",VLOOKUP($K46,'DADOS MYLAPS'!$A$8:$D$207,3,FALSE)) | M46: =IF($K46="","",VLOOKUP($K46,'DADOS MYLAPS'!$A$8:$C$207,2,FALSE)) | N46: =IF($K46="","",+M46-M45) | O46: =IF(K44="","",IF(SUM(N44:N46)=0,"",SUM(N44:N46))) | P46: =SUM(N44:N46) -> 0 | Q46: =IF(K44="","",+O46-$O$10)
I47: =IF(K47="","",VLOOKUP($K47,'DADOS MYLAPS'!$A$8:$D$207,4,FALSE)) | J47: =IF(K47="","",RANK(P47,$O$8:$O$157,1)) | L47: =IF(K47="","",VLOOKUP($K47,'DADOS MYLAPS'!$A$8:$D$207,3,FALSE)) | M47: =IF($K47="","",VLOOKUP($K47,'DADOS MYLAPS'!$A$8:$C$207,2,FALSE)) | N47: =IF($K47="","",+M47) | P47: =SUM(N47:N49) -> 0
I48: =IF(K48="","",VLOOKUP($K48,'DADOS MYLAPS'!$A$8:$D$207,4,FALSE)) | J48: =IF(K48="","",RANK(P48,$O$8:$O$157,1)) | L48: =IF(K48="","",VLOOKUP($K48,'DADOS MYLAPS'!$A$8:$D$207,3,FALSE)) | M48: =IF($K48="","",VLOOKUP($K48,'DADOS MYLAPS'!$A$8:$C$207,2,FALSE)) | N48: =IF($K48="","",+M48-M47) | P48: =SUM(N47:N49) -> 0
I49: =IF(K49="","",VLOOKUP($K49,'DADOS MYLAPS'!$A$8:$D$207,4,FALSE)) | J49: =IF(K49="","",RANK(P49,$O$8:$O$157,1)) | L49: =IF(K49="","",VLOOKUP($K49,'DADOS MYLAPS'!$A$8:$D$207,3,FALSE)) | M49: =IF($K49="","",VLOOKUP($K49,'DADOS MYLAPS'!$A$8:$C$207,2,FALSE)) | N49: =IF($K49="","",+M49-M48) | O49: =IF(K47="","",IF(SUM(N47:N49)=0,"",SUM(N47:N49))) | P49: =SUM(N47:N49) -> 0 | Q49: =IF(K47="","",+O49-$O$10)
I50: =IF(K50="","",VLOOKUP($K50,'DADOS MYLAPS'!$A$8:$D$207,4,FALSE)) | J50: =IF(K50="","",RANK(P50,$O$8:$O$157,1)) | L50: =IF(K50="","",VLOOKUP($K50,'DADOS MYLAPS'!$A$8:$D$207,3,FALSE)) | M50: =IF($K50="","",VLOOKUP($K50,'DADOS MYLAPS'!$A$8:$C$207,2,FALSE)) | N50: =IF($K50="","",+M50) | P50: =SUM(N50:N52) -> 0
I51: =IF(K51="","",VLOOKUP($K51,'DADOS MYLAPS'!$A$8:$D$207,4,FALSE)) | J51: =IF(K51="","",RANK(P51,$O$8:$O$157,1)) | L51: =IF(K51="","",VLOOKUP($K51,'DADOS MYLAPS'!$A$8:$D$207,3,FALSE)) | M51: =IF($K51="","",VLOOKUP($K51,'DADOS MYLAPS'!$A$8:$C$207,2,FALSE)) | N51: =IF($K51="","",+M51-M50) | P51: =SUM(N50:N52) -> 0
I52: =IF(K52="","",VLOOKUP($K52,'DADOS MYLAPS'!$A$8:$D$207,4,FALSE)) | J52: =IF(K52="","",RANK(P52,$O$8:$O$157,1)) | L52: =IF(K52="","",VLOOKUP($K52,'DADOS MYLAPS'!$A$8:$D$207,3,FALSE)) | M52: =IF($K52="","",VLOOKUP($K52,'DADOS MYLAPS'!$A$8:$C$207,2,FALSE)) | N52: =IF($K52="","",+M52-M51) | O52: =IF(K50="","",IF(SUM(N50:N52)=0,"",SUM(N50:N52))) | P52: =SUM(N50:N52) -> 0 | Q52: =IF(K50="","",+O52-$O$10)
I53: =IF(K53="","",VLOOKUP($K53,'DADOS MYLAPS'!$A$8:$D$207,4,FALSE)) | J53: =IF(K53="","",RANK(P53,$O$8:$O$157,1)) | L53: =IF(K53="","",VLOOKUP($K53,'DADOS MYLAPS'!$A$8:$D$207,3,FALSE)) | M53: =IF($K53="","",VLOOKUP($K53,'DADOS MYLAPS'!$A$8:$C$207,2,FALSE)) | N53: =IF($K53="","",+M53) | P53: =SUM(N53:N55) -> 0
I54: =IF(K54="","",VLOOKUP($K54,'DADOS MYLAPS'!$A$8:$D$207,4,FALSE)) | J54: =IF(K54="","",RANK(P54,$O$8:$O$157,1)) | L54: =IF(K54="","",VLOOKUP($K54,'DADOS MYLAPS'!$A$8:$D$207,3,FALSE)) | M54: =IF($K54="","",VLOOKUP($K54,'DADOS MYLAPS'!$A$8:$C$207,2,FALSE)) | N54: =IF($K54="","",+M54-M53) | P54: =SUM(N53:N55) -> 0
I55: =IF(K55="","",VLOOKUP($K55,'DADOS MYLAPS'!$A$8:$D$207,4,FALSE)) | J55: =IF(K55="","",RANK(P55,$O$8:$O$157,1)) | L55: =IF(K55="","",VLOOKUP($K55,'DADOS MYLAPS'!$A$8:$D$207,3,FALSE)) | M55: =IF($K55="","",VLOOKUP($K55,'DADOS MYLAPS'!$A$8:$C$207,2,FALSE)) | N55: =IF($K55="","",+M55-M54) | O55: =IF(K53="","",IF(SUM(N53:N55)=0,"",SUM(N53:N55))) | P55: =SUM(N53:N55) -> 0 | Q55: =IF(K53="","",+O55-$O$10)
I56: =IF(K56="","",VLOOKUP($K56,'DADOS MYLAPS'!$A$8:$D$207,4,FALSE)) | J56: =IF(K56="","",RANK(P56,$O$8:$O$157,1)) | L56: =IF(K56="","",VLOOKUP($K56,'DADOS MYLAPS'!$A$8:$D$207,3,FALSE)) | M56: =IF($K56="","",VLOOKUP($K56,'DADOS MYLAPS'!$A$8:$C$207,2,FALSE)) | N56: =IF($K56="","",+M56) | P56: =SUM(N56:N58) -> 0
I57: =IF(K57="","",VLOOKUP($K57,'DADOS MYLAPS'!$A$8:$D$207,4,FALSE)) | J57: =IF(K57="","",RANK(P57,$O$8:$O$157,1)) | L57: =IF(K57="","",VLOOKUP($K57,'DADOS MYLAPS'!$A$8:$D$207,3,FALSE)) | M57: =IF($K57="","",VLOOKUP($K57,'DADOS MYLAPS'!$A$8:$C$207,2,FALSE)) | N57: =IF($K57="","",+M57-M56) | P57: =SUM(N56:N58) -> 0
I58: =IF(K58="","",VLOOKUP($K58,'DADOS MYLAPS'!$A$8:$D$207,4,FALSE)) | J58: =IF(K58="","",RANK(P58,$O$8:$O$157,1)) | L58: =IF(K58="","",VLOOKUP($K58,'DADOS MYLAPS'!$A$8:$D$207,3,FALSE)) | M58: =IF($K58="","",VLOOKUP($K58,'DADOS MYLAPS'!$A$8:$C$207,2,FALSE)) | N58: =IF($K58="","",+M58-M57) | O58: =IF(K56="","",IF(SUM(N56:N58)=0,"",SUM(N56:N58))) | P58: =SUM(N56:N58) -> 0 | Q58: =IF(K56="","",+O58-$O$10)
I59: =IF(K59="","",VLOOKUP($K59,'DADOS MYLAPS'!$A$8:$D$207,4,FALSE)) | J59: =IF(K59="","",RANK(P59,$O$8:$O$157,1)) | L59: =IF(K59="","",VLOOKUP($K59,'DADOS MYLAPS'!$A$8:$D$207,3,FALSE)) | M59: =IF($K59="","",VLOOKUP($K59,'DADOS MYLAPS'!$A$8:$C$207,2,FALSE)) | N59: =IF($K59="","",+M59) | P59: =SUM(N59:N61) -> 0
I60: =IF(K60="","",VLOOKUP($K60,'DADOS MYLAPS'!$A$8:$D$207,4,FALSE)) | J60: =IF(K60="","",RANK(P60,$O$8:$O$157,1)) | L60: =IF(K60="","",VLOOKUP($K60,'DADOS MYLAPS'!$A$8:$D$207,3,FALSE)) | M60: =IF($K60="","",VLOOKUP($K60,'DADOS MYLAPS'!$A$8:$C$207,2,FALSE)) | N60: =IF($K60="","",+M60-M59) | P60: =SUM(N59:N61) -> 0
I61: =IF(K61="","",VLOOKUP($K61,'DADOS MYLAPS'!$A$8:$D$207,4,FALSE)) | J61: =IF(K61="","",RANK(P61,$O$8:$O$157,1)) | L61: =IF(K61="","",VLOOKUP($K61,'DADOS MYLAPS'!$A$8:$D$207,3,FALSE)) | M61: =IF($K61="","",VLOOKUP($K61,'DADOS MYLAPS'!$A$8:$C$207,2,FALSE)) | N61: =IF($K61="","",+M61-M60) | O61: =IF(K59="","",IF(SUM(N59:N61)=0,"",SUM(N59:N61))) | P61: =SUM(N59:N61) -> 0 | Q61: =IF(K59="","",+O61-$O$10)
I62: =IF(K62="","",VLOOKUP($K62,'DADOS MYLAPS'!$A$8:$D$207,4,FALSE)) | J62: =IF(K62="","",RANK(P62,$O$8:$O$157,1)) | L62: =IF(K62="","",VLOOKUP($K62,'DADOS MYLAPS'!$A$8:$D$207,3,FALSE)) | M62: =IF($K62="","",VLOOKUP($K62,'DADOS MYLAPS'!$A$8:$C$207,2,FALSE)) | N62: =IF($K62="","",+M62) | P62: =SUM(N62:N64) -> 0
I63: =IF(K63="","",VLOOKUP($K63,'DADOS MYLAPS'!$A$8:$D$207,4,FALSE)) | J63: =IF(K63="","",RANK(P63,$O$8:$O$157,1)) | L63: =IF(K63="","",VLOOKUP($K63,'DADOS MYLAPS'!$A$8:$D$207,3,FALSE)) | M63: =IF($K63="","",VLOOKUP($K63,'DADOS MYLAPS'!$A$8:$C$207,2,FALSE)) | N63: =IF($K63="","",+M63-M62) | P63: =SUM(N62:N64) -> 0
I64: =IF(K64="","",VLOOKUP($K64,'DADOS MYLAPS'!$A$8:$D$207,4,FALSE)) | J64: =IF(K64="","",RANK(P64,$O$8:$O$157,1)) | L64: =IF(K64="","",VLOOKUP($K64,'DADOS MYLAPS'!$A$8:$D$207,3,FALSE)) | M64: =IF($K64="","",VLOOKUP($K64,'DADOS MYLAPS'!$A$8:$C$207,2,FALSE)) | N64: =IF($K64="","",+M64-M63) | O64: =IF(K62="","",IF(SUM(N62:N64)=0,"",SUM(N62:N64))) | P64: =SUM(N62:N64) -> 0 | Q64: =IF(K62="","",+O64-$O$10)
I65: =IF(K65="","",VLOOKUP($K65,'DADOS MYLAPS'!$A$8:$D$207,4,FALSE)) | J65: =IF(K65="","",RANK(P65,$O$8:$O$157,1)) | L65: =IF(K65="","",VLOOKUP($K65,'DADOS MYLAPS'!$A$8:$D$207,3,FALSE)) | M65: =IF($K65="","",VLOOKUP($K65,'DADOS MYLAPS'!$A$8:$C$207,2,FALSE)) | N65: =IF($K65="","",+M65) | P65: =SUM(N65:N67) -> 0
I66: =IF(K66="","",VLOOKUP($K66,'DADOS MYLAPS'!$A$8:$D$207,4,FALSE)) | J66: =IF(K66="","",RANK(P66,$O$8:$O$157,1)) | L66: =IF(K66="","",VLOOKUP($K66,'DADOS MYLAPS'!$A$8:$D$207,3,FALSE)) | M66: =IF($K66="","",VLOOKUP($K66,'DADOS MYLAPS'!$A$8:$C$207,2,FALSE)) | N66: =IF($K66="","",+M66-M65) | P66: =SUM(N65:N67) -> 0
I67: =IF(K67="","",VLOOKUP($K67,'DADOS MYLAPS'!$A$8:$D$207,4,FALSE)) | J67: =IF(K67="","",RANK(P67,$O$8:$O$157,1)) | L67: =IF(K67="","",VLOOKUP($K67,'DADOS MYLAPS'!$A$8:$D$207,3,FALSE)) | M67: =IF($K67="","",VLOOKUP($K67,'DADOS MYLAPS'!$A$8:$C$207,2,FALSE)) | N67: =IF($K67="","",+M67-M66) | O67: =IF(K65="","",IF(SUM(N65:N67)=0,"",SUM(N65:N67))) | P67: =SUM(N65:N67) -> 0 | Q67: =IF(K65="","",+O67-$O$10)
I68: =IF(K68="","",VLOOKUP($K68,'DADOS MYLAPS'!$A$8:$D$207,4,FALSE)) | J68: =IF(K68="","",RANK(P68,$O$8:$O$157,1)) | L68: =IF(K68="","",VLOOKUP($K68,'DADOS MYLAPS'!$A$8:$D$207,3,FALSE)) | M68: =IF($K68="","",VLOOKUP($K68,'DADOS MYLAPS'!$A$8:$C$207,2,FALSE)) | N68: =IF($K68="","",+M68) | P68: =SUM(N68:N70) -> 0
I69: =IF(K69="","",VLOOKUP($K69,'DADOS MYLAPS'!$A$8:$D$207,4,FALSE)) | J69: =IF(K69="","",RANK(P69,$O$8:$O$157,1)) | L69: =IF(K69="","",VLOOKUP($K69,'DADOS MYLAPS'!$A$8:$D$207,3,FALSE)) | M69: =IF($K69="","",VLOOKUP($K69,'DADOS MYLAPS'!$A$8:$C$207,2,FALSE)) | N69: =IF($K69="","",+M69-M68) | P69: =SUM(N68:N70) -> 0
I70: =IF(K70="","",VLOOKUP($K70,'DADOS MYLAPS'!$A$8:$D$207,4,FALSE)) | J70: =IF(K70="","",RANK(P70,$O$8:$O$157,1)) | L70: =IF(K70="","",VLOOKUP($K70,'DADOS MYLAPS'!$A$8:$D$207,3,FALSE)) | M70: =IF($K70="","",VLOOKUP($K70,'DADOS MYLAPS'!$A$8:$C$207,2,FALSE)) | N70: =IF($K70="","",+M70-M69) | O70: =IF(K68="","",IF(SUM(N68:N70)=0,"",SUM(N68:N70))) | P70: =SUM(N68:N70) -> 0 | Q70: =IF(K68="","",+O70-$O$10)
I71: =IF(K71="","",VLOOKUP($K71,'DADOS MYLAPS'!$A$8:$D$207,4,FALSE)) | J71: =IF(K71="","",RANK(P71,$O$8:$O$157,1)) | L71: =IF(K71="","",VLOOKUP($K71,'DADOS MYLAPS'!$A$8:$D$207,3,FALSE)) | M71: =IF($K71="","",VLOOKUP($K71,'DADOS MYLAPS'!$A$8:$C$207,2,FALSE)) | N71: =IF($K71="","",+M71) | P71: =SUM(N71:N73) -> 0
I72: =IF(K72="","",VLOOKUP($K72,'DADOS MYLAPS'!$A$8:$D$207,4,FALSE)) | J72: =IF(K72="","",RANK(P72,$O$8:$O$157,1)) | L72: =IF(K72="","",VLOOKUP($K72,'DADOS MYLAPS'!$A$8:$D$207,3,FALSE)) | M72: =IF($K72="","",VLOOKUP($K72,'DADOS MYLAPS'!$A$8:$C$207,2,FALSE)) | N72: =IF($K72="","",+M72-M71) | P72: =SUM(N71:N73) -> 0
I73: =IF(K73="","",VLOOKUP($K73,'DADOS MYLAPS'!$A$8:$D$207,4,FALSE)) | J73: =IF(K73="","",RANK(P73,$O$8:$O$157,1)) | L73: =IF(K73="","",VLOOKUP($K73,'DADOS MYLAPS'!$A$8:$D$207,3,FALSE)) | M73: =IF($K73="","",VLOOKUP($K73,'DADOS MYLAPS'!$A$8:$C$207,2,FALSE)) | N73: =IF($K73="","",+M73-M72) | O73: =IF(K71="","",IF(SUM(N71:N73)=0,"",SUM(N71:N73))) | P73: =SUM(N71:N73) -> 0 | Q73: =IF(K71="","",+O73-$O$10)
I74: =IF(K74="","",VLOOKUP($K74,'DADOS MYLAPS'!$A$8:$D$207,4,FALSE)) | J74: =IF(K74="","",RANK(P74,$O$8:$O$157,1)) | L74: =IF(K74="","",VLOOKUP($K74,'DADOS MYLAPS'!$A$8:$D$207,3,FALSE)) | M74: =IF($K74="","",VLOOKUP($K74,'DADOS MYLAPS'!$A$8:$C$207,2,FALSE)) | N74: =IF($K74="","",+M74) | P74: =SUM(N74:N76) -> 0
I75: =IF(K75="","",VLOOKUP($K75,'DADOS MYLAPS'!$A$8:$D$207,4,FALSE)) | J75: =IF(K75="","",RANK(P75,$O$8:$O$157,1)) | L75: =IF(K75="","",VLOOKUP($K75,'DADOS MYLAPS'!$A$8:$D$207,3,FALSE)) | M75: =IF($K75="","",VLOOKUP($K75,'DADOS MYLAPS'!$A$8:$C$207,2,FALSE)) | N75: =IF($K75="","",+M75-M74) | P75: =SUM(N74:N76) -> 0
I76: =IF(K76="","",VLOOKUP($K76,'DADOS MYLAPS'!$A$8:$D$207,4,FALSE)) | J76: =IF(K76="","",RANK(P76,$O$8:$O$157,1)) | L76: =IF(K76="","",VLOOKUP($K76,'DADOS MYLAPS'!$A$8:$D$207,3,FALSE)) | M76: =IF($K76="","",VLOOKUP($K76,'DADOS MYLAPS'!$A$8:$C$207,2,FALSE)) | N76: =IF($K76="","",+M76-M75) | O76: =IF(K74="","",IF(SUM(N74:N76)=0,"",SUM(N74:N76))) | P76: =SUM(N74:N76) -> 0 | Q76: =IF(K74="","",+O76-$O$10)
I77: =IF(K77="","",VLOOKUP($K77,'DADOS MYLAPS'!$A$8:$D$207,4,FALSE)) | J77: =IF(K77="","",RANK(P77,$O$8:$O$157,1)) | L77: =IF(K77="","",VLOOKUP($K77,'DADOS MYLAPS'!$A$8:$D$207,3,FALSE)) | M77: =IF($K77="","",VLOOKUP($K77,'DADOS MYLAPS'!$A$8:$C$207,2,FALSE)) | N77: =IF($K77="","",+M77) | P77: =SUM(N77:N79) -> 0
I78: =IF(K78="","",VLOOKUP($K78,'DADOS MYLAPS'!$A$8:$D$207,4,FALSE)) | J78: =IF(K78="","",RANK(P78,$O$8:$O$157,1)) | L78: =IF(K78="","",VLOOKUP($K78,'DADOS MYLAPS'!$A$8:$D$207,3,FALSE)) | M78: =IF($K78="","",VLOOKUP($K78,'DADOS MYLAPS'!$A$8:$C$207,2,FALSE)) | N78: =IF($K78="","",+M78-M77) | P78: =SUM(N77:N79) -> 0
I79: =IF(K79="","",VLOOKUP($K79,'DADOS MYLAPS'!$A$8:$D$207,4,FALSE)) | J79: =IF(K79="","",RANK(P79,$O$8:$O$157,1)) | L79: =IF(K79="","",VLOOKUP($K79,'DADOS MYLAPS'!$A$8:$D$207,3,FALSE)) | M79: =IF($K79="","",VLOOKUP($K79,'DADOS MYLAPS'!$A$8:$C$207,2,FALSE)) | N79: =IF($K79="","",+M79-M78) | O79: =IF(K77="","",IF(SUM(N77:N79)=0,"",SUM(N77:N79))) | P79: =SUM(N77:N79) -> 0 | Q79: =IF(K77="","",+O79-$O$10)
I80: =IF(K80="","",VLOOKUP($K80,'DADOS MYLAPS'!$A$8:$D$207,4,FALSE)) | J80: =IF(K80="","",RANK(P80,$O$8:$O$157,1)) | L80: =IF(K80="","",VLOOKUP($K80,'DADOS MYLAPS'!$A$8:$D$207,3,FALSE)) | M80: =IF($K80="","",VLOOKUP($K80,'DADOS MYLAPS'!$A$8:$C$207,2,FALSE)) | N80: =IF($K80="","",+M80) | P80: =SUM(N80:N82) -> 0
I81: =IF(K81="","",VLOOKUP($K81,'DADOS MYLAPS'!$A$8:$D$207,4,FALSE)) | J81: =IF(K81="","",RANK(P81,$O$8:$O$157,1)) | L81: =IF(K81="","",VLOOKUP($K81,'DADOS MYLAPS'!$A$8:$D$207,3,FALSE)) | M81: =IF($K81="","",VLOOKUP($K81,'DADOS MYLAPS'!$A$8:$C$207,2,FALSE)) | N81: =IF($K81="","",+M81-M80) | P81: =SUM(N80:N82) -> 0
I82: =IF(K82="","",VLOOKUP($K82,'DADOS MYLAPS'!$A$8:$D$207,4,FALSE)) | J82: =IF(K82="","",RANK(P82,$O$8:$O$157,1)) | L82: =IF(K82="","",VLOOKUP($K82,'DADOS MYLAPS'!$A$8:$D$207,3,FALSE)) | M82: =IF($K82="","",VLOOKUP($K82,'DADOS MYLAPS'!$A$8:$C$207,2,FALSE)) | N82: =IF($K82="","",+M82-M81) | O82: =IF(K80="","",IF(SUM(N80:N82)=0,"",SUM(N80:N82))) | P82: =SUM(N80:N82) -> 0 | Q82: =IF(K80="","",+O82-$O$10)
I83: =IF(K83="","",VLOOKUP($K83,'DADOS MYLAPS'!$A$8:$D$207,4,FALSE)) | J83: =IF(K83="","",RANK(P83,$O$8:$O$157,1)) | L83: =IF(K83="","",VLOOKUP($K83,'DADOS MYLAPS'!$A$8:$D$207,3,FALSE)) | M83: =IF($K83="","",VLOOKUP($K83,'DADOS MYLAPS'!$A$8:$C$207,2,FALSE)) | N83: =IF($K83="","",+M83) | P83: =SUM(N83:N85) -> 0
I84: =IF(K84="","",VLOOKUP($K84,'DADOS MYLAPS'!$A$8:$D$207,4,FALSE)) | J84: =IF(K84="","",RANK(P84,$O$8:$O$157,1)) | L84: =IF(K84="","",VLOOKUP($K84,'DADOS MYLAPS'!$A$8:$D$207,3,FALSE)) | M84: =IF($K84="","",VLOOKUP($K84,'DADOS MYLAPS'!$A$8:$C$207,2,FALSE)) | N84: =IF($K84="","",+M84-M83) | P84: =SUM(N83:N85) -> 0
I85: =IF(K85="","",VLOOKUP($K85,'DADOS MYLAPS'!$A$8:$D$207,4,FALSE)) | J85: =IF(K85="","",RANK(P85,$O$8:$O$157,1)) | L85: =IF(K85="","",VLOOKUP($K85,'DADOS MYLAPS'!$A$8:$D$207,3,FALSE)) | M85: =IF($K85="","",VLOOKUP($K85,'DADOS MYLAPS'!$A$8:$C$207,2,FALSE)) | N85: =IF($K85="","",+M85-M84) | O85: =IF(K83="","",IF(SUM(N83:N85)=0,"",SUM(N83:N85))) | P85: =SUM(N83:N85) -> 0 | Q85: =IF(K83="","",+O85-$O$10)
I86: =IF(K86="","",VLOOKUP($K86,'DADOS MYLAPS'!$A$8:$D$207,4,FALSE)) | J86: =IF(K86="","",RANK(P86,$O$8:$O$157,1)) | L86: =IF(K86="","",VLOOKUP($K86,'DADOS MYLAPS'!$A$8:$D$207,3,FALSE)) | M86: =IF($K86="","",VLOOKUP($K86,'DADOS MYLAPS'!$A$8:$C$207,2,FALSE)) | N86: =IF($K86="","",+M86) | P86: =SUM(N86:N88) -> 0
I87: =IF(K87="","",VLOOKUP($K87,'DADOS MYLAPS'!$A$8:$D$207,4,FALSE)) | J87: =IF(K87="","",RANK(P87,$O$8:$O$157,1)) | L87: =IF(K87="","",VLOOKUP($K87,'DADOS MYLAPS'!$A$8:$D$207,3,FALSE)) | M87: =IF($K87="","",VLOOKUP($K87,'DADOS MYLAPS'!$A$8:$C$207,2,FALSE)) | N87: =IF($K87="","",+M87-M86) | P87: =SUM(N86:N88) -> 0
I88: =IF(K88="","",VLOOKUP($K88,'DADOS MYLAPS'!$A$8:$D$207,4,FALSE)) | J88: =IF(K88="","",RANK(P88,$O$8:$O$157,1)) | L88: =IF(K88="","",VLOOKUP($K88,'DADOS MYLAPS'!$A$8:$D$207,3,FALSE)) | M88: =IF($K88="","",VLOOKUP($K88,'DADOS MYLAPS'!$A$8:$C$207,2,FALSE)) | N88: =IF($K88="","",+M88-M87) | O88: =IF(K86="","",IF(SUM(N86:N88)=0,"",SUM(N86:N88))) | P88: =SUM(N86:N88) -> 0 | Q88: =IF(K86="","",+O88-$O$10)
I89: =IF(K89="","",VLOOKUP($K89,'DADOS MYLAPS'!$A$8:$D$207,4,FALSE)) | J89: =IF(K89="","",RANK(P89,$O$8:$O$157,1)) | L89: =IF(K89="","",VLOOKUP($K89,'DADOS MYLAPS'!$A$8:$D$207,3,FALSE)) | M89: =IF($K89="","",VLOOKUP($K89,'DADOS MYLAPS'!$A$8:$C$207,2,FALSE)) | N89: =IF($K89="","",+M89) | P89: =SUM(N89:N91) -> 0
I90: =IF(K90="","",VLOOKUP($K90,'DADOS MYLAPS'!$A$8:$D$207,4,FALSE)) | J90: =IF(K90="","",RANK(P90,$O$8:$O$157,1)) | L90: =IF(K90="","",VLOOKUP($K90,'DADOS MYLAPS'!$A$8:$D$207,3,FALSE)) | M90: =IF($K90="","",VLOOKUP($K90,'DADOS MYLAPS'!$A$8:$C$207,2,FALSE)) | N90: =IF($K90="","",+M90-M89) | P90: =SUM(N89:N91) -> 0
I91: =IF(K91="","",VLOOKUP($K91,'DADOS MYLAPS'!$A$8:$D$207,4,FALSE)) | J91: =IF(K91="","",RANK(P91,$O$8:$O$157,1)) | L91: =IF(K91="","",VLOOKUP($K91,'DADOS MYLAPS'!$A$8:$D$207,3,FALSE)) | M91: =IF($K91="","",VLOOKUP($K91,'DADOS MYLAPS'!$A$8:$C$207,2,FALSE)) | N91: =IF($K91="","",+M91-M90) | O91: =IF(K89="","",IF(SUM(N89:N91)=0,"",SUM(N89:N91))) | P91: =SUM(N89:N91) -> 0 | Q91: =IF(K89="","",+O91-$O$10)
I92: =IF(K92="","",VLOOKUP($K92,'DADOS MYLAPS'!$A$8:$D$207,4,FALSE)) | J92: =IF(K92="","",RANK(P92,$O$8:$O$157,1)) | L92: =IF(K92="","",VLOOKUP($K92,'DADOS MYLAPS'!$A$8:$D$207,3,FALSE)) | M92: =IF($K92="","",VLOOKUP($K92,'DADOS MYLAPS'!$A$8:$C$207,2,FALSE)) | N92: =IF($K92="","",+M92) | P92: =SUM(N92:N94) -> 0
I93: =IF(K93="","",VLOOKUP($K93,'DADOS MYLAPS'!$A$8:$D$207,4,FALSE)) | J93: =IF(K93="","",RANK(P93,$O$8:$O$157,1)) | L93: =IF(K93="","",VLOOKUP($K93,'DADOS MYLAPS'!$A$8:$D$207,3,FALSE)) | M93: =IF($K93="","",VLOOKUP($K93,'DADOS MYLAPS'!$A$8:$C$207,2,FALSE)) | N93: =IF($K93="","",+M93-M92) | P93: =SUM(N92:N94) -> 0
I94: =IF(K94="","",VLOOKUP($K94,'DADOS MYLAPS'!$A$8:$D$207,4,FALSE)) | J94: =IF(K94="","",RANK(P94,$O$8:$O$157,1)) | L94: =IF(K94="","",VLOOKUP($K94,'DADOS MYLAPS'!$A$8:$D$207,3,FALSE)) | M94: =IF($K94="","",VLOOKUP($K94,'DADOS MYLAPS'!$A$8:$C$207,2,FALSE)) | N94: =IF($K94="","",+M94-M93) | O94: =IF(K92="","",IF(SUM(N92:N94)=0,"",SUM(N92:N94))) | P94: =SUM(N92:N94) -> 0 | Q94: =IF(K92="","",+O94-$O$10)
I95: =IF(K95="","",VLOOKUP($K95,'DADOS MYLAPS'!$A$8:$D$207,4,FALSE)) | J95: =IF(K95="","",RANK(P95,$O$8:$O$157,1)) | L95: =IF(K95="","",VLOOKUP($K95,'DADOS MYLAPS'!$A$8:$D$207,3,FALSE)) | M95: =IF($K95="","",VLOOKUP($K95,'DADOS MYLAPS'!$A$8:$C$207,2,FALSE)) | N95: =IF($K95="","",+M95) | P95: =SUM(N95:N97) -> 0
I96: =IF(K96="","",VLOOKUP($K96,'DADOS MYLAPS'!$A$8:$D$207,4,FALSE)) | J96: =IF(K96="","",RANK(P96,$O$8:$O$157,1)) | L96: =IF(K96="","",VLOOKUP($K96,'DADOS MYLAPS'!$A$8:$D$207,3,FALSE)) | M96: =IF($K96="","",VLOOKUP($K96,'DADOS MYLAPS'!$A$8:$C$207,2,FALSE)) | N96: =IF($K96="","",+M96-M95) | P96: =SUM(N95:N97) -> 0
I97: =IF(K97="","",VLOOKUP($K97,'DADOS MYLAPS'!$A$8:$D$207,4,FALSE)) | J97: =IF(K97="","",RANK(P97,$O$8:$O$157,1)) | L97: =IF(K97="","",VLOOKUP($K97,'DADOS MYLAPS'!$A$8:$D$207,3,FALSE)) | M97: =IF($K97="","",VLOOKUP($K97,'DADOS MYLAPS'!$A$8:$C$207,2,FALSE)) | N97: =IF($K97="","",+M97-M96) | O97: =IF(K95="","",IF(SUM(N95:N97)=0,"",SUM(N95:N97))) | P97: =SUM(N95:N97) -> 0 | Q97: =IF(K95="","",+O97-$O$10)
I98: =IF(K98="","",VLOOKUP($K98,'DADOS MYLAPS'!$A$8:$D$207,4,FALSE)) | J98: =IF(K98="","",RANK(P98,$O$8:$O$157,1)) | L98: =IF(K98="","",VLOOKUP($K98,'DADOS MYLAPS'!$A$8:$D$207,3,FALSE)) | M98: =IF($K98="","",VLOOKUP($K98,'DADOS MYLAPS'!$A$8:$C$207,2,FALSE)) | N98: =IF($K98="","",+M98) | P98: =SUM(N98:N100) -> 0
I99: =IF(K99="","",VLOOKUP($K99,'DADOS MYLAPS'!$A$8:$D$207,4,FALSE)) | J99: =IF(K99="","",RANK(P99,$O$8:$O$157,1)) | L99: =IF(K99="","",VLOOKUP($K99,'DADOS MYLAPS'!$A$8:$D$207,3,FALSE)) | M99: =IF($K99="","",VLOOKUP($K99,'DADOS MYLAPS'!$A$8:$C$207,2,FALSE)) | N99: =IF($K99="","",+M99-M98) | P99: =SUM(N98:N100) -> 0
I100: =IF(K100="","",VLOOKUP($K100,'DADOS MYLAPS'!$A$8:$D$207,4,FALSE)) | J100: =IF(K100="","",RANK(P100,$O$8:$O$157,1)) | L100: =IF(K100="","",VLOOKUP($K100,'DADOS MYLAPS'!$A$8:$D$207,3,FALSE)) | M100: =IF($K100="","",VLOOKUP($K100,'DADOS MYLAPS'!$A$8:$C$207,2,FALSE)) | N100: =IF($K100="","",+M100-M99) | O100: =IF(K98="","",IF(SUM(N98:N100)=0,"",SUM(N98:N100))) | P100: =SUM(N98:N100) -> 0 | Q100: =IF(K98="","",+O100-$O$10)
I101: =IF(K101="","",VLOOKUP($K101,'DADOS MYLAPS'!$A$8:$D$207,4,FALSE)) | J101: =IF(K101="","",RANK(P101,$O$8:$O$157,1)) | L101: =IF(K101="","",VLOOKUP($K101,'DADOS MYLAPS'!$A$8:$D$207,3,FALSE)) | M101: =IF($K101="","",VLOOKUP($K101,'DADOS MYLAPS'!$A$8:$C$207,2,FALSE)) | N101: =IF($K101="","",+M101) | P101: =SUM(N101:N103) -> 0
I102: =IF(K102="","",VLOOKUP($K102,'DADOS MYLAPS'!$A$8:$D$207,4,FALSE)) | J102: =IF(K102="","",RANK(P102,$O$8:$O$157,1)) | L102: =IF(K102="","",VLOOKUP($K102,'DADOS MYLAPS'!$A$8:$D$207,3,FALSE)) | M102: =IF($K102="","",VLOOKUP($K102,'DADOS MYLAPS'!$A$8:$C$207,2,FALSE)) | N102: =IF($K102="","",+M102-M101) | P102: =SUM(N101:N103) -> 0
I103: =IF(K103="","",VLOOKUP($K103,'DADOS MYLAPS'!$A$8:$D$207,4,FALSE)) | J103: =IF(K103="","",RANK(P103,$O$8:$O$157,1)) | L103: =IF(K103="","",VLOOKUP($K103,'DADOS MYLAPS'!$A$8:$D$207,3,FALSE)) | M103: =IF($K103="","",VLOOKUP($K103,'DADOS MYLAPS'!$A$8:$C$207,2,FALSE)) | N103: =IF($K103="","",+M103-M102) | O103: =IF(K101="","",IF(SUM(N101:N103)=0,"",SUM(N101:N103))) | P103: =SUM(N101:N103) -> 0 | Q103: =IF(K101="","",+O103-$O$10)
I104: =IF(K104="","",VLOOKUP($K104,'DADOS MYLAPS'!$A$8:$D$207,4,FALSE)) | J104: =IF(K104="","",RANK(P104,$O$8:$O$157,1)) | L104: =IF(K104="","",VLOOKUP($K104,'DADOS MYLAPS'!$A$8:$D$207,3,FALSE)) | M104: =IF($K104="","",VLOOKUP($K104,'DADOS MYLAPS'!$A$8:$C$207,2,FALSE)) | N104: =IF($K104="","",+M104) | P104: =SUM(N104:N106) -> 0
I105: =IF(K105="","",VLOOKUP($K105,'DADOS MYLAPS'!$A$8:$D$207,4,FALSE)) | J105: =IF(K105="","",RANK(P105,$O$8:$O$157,1)) | L105: =IF(K105="","",VLOOKUP($K105,'DADOS MYLAPS'!$A$8:$D$207,3,FALSE)) | M105: =IF($K105="","",VLOOKUP($K105,'DADOS MYLAPS'!$A$8:$C$207,2,FALSE)) | N105: =IF($K105="","",+M105-M104) | P105: =SUM(N104:N106) -> 0
...

Sheet Folha1
A1: Pos | B1: Athlete | C1: Category | D1: Team | E1: Race | F1: Gender | G1: Bib# | H1: Gun Time | I1: Total | J1: Pace(min/100m) | K1: #S | L1: T2 - PT SAIDA | M1: #T1 | N1: Total | O1: Speed(km/h) | P1: #B | Q1: AftB | R1: #AftB | S1: T2 - PT SAIDA | T1: #T2 | U1: Total | V1: Pace(min/km) | W1: #R
A2: 9 | B2: Francisca Garcês | C2: Mx | D2: AD Galomar | E2: Vaga 1 / TRANSIÇAO | F2: F | G2: 10A | H2: =VLOOKUP(G2,FINAL!$K$7:$N$157,4,FALSE) -> #N/A | I2: 0.0033217593 | J2: 0.065972222 | K2: 6 | L2: 0.00039351852 | M2: 18 | N2: 0.010497685 | O2: 26.98 | P2: 26 | Q2: 0.014201389 | R2: 8 | S2: 0.00030092593 | T2: 14 | U2: 0.0041782407 | V2: 4:37 | W2: 28
A3: 20 | B3: Artur Vieira | C3: Mx | D3: AD Galomar | E3: Vaga 1 / TRANSIÇAO | F3: M | G3: 10B | H3: =VLOOKUP(G3,FINAL!$K$7:$N$157,4,FALSE) -> #N/A | I3: 0.022060185 | J3: 10:35 | K3: 19 | L3: 0:00:36 | M3: 20 | N3: 0:13:33 | O3: 30,08 | P3: 15 | Q3: 0:45:54 | R3: 19 | S3: 0:00:30 | T3: 23 | U3: 0:05:52 | V3: 4:30 | W3: 26
A4: 32 | B4: Maria Freitas | C4: Mx | D4: AD Galomar | E4: Vaga 1 / TRANSIÇAO | F4: F | G4: 10C | H4: =VLOOKUP(G4,FINAL!$K$7:$N$157,4,FALSE) -> #N/A | I4: 0.040150463 | J4: 19:16 | K4: 31 | L4: 0:00:43 | M4: 27 | N4: 0:18:22 | O4: 22,21 | P4: 33 | Q4: 1:16:52 | R4: 32 | S4: 0:00:23 | T4: 7 | U4: 0:07:29 | V4: 5:46 | W4: 33
A5: 11 | B5: Adriana Alves | C5: Mx | D5: AD Galomar | E5: Vaga 1 / FINAL | F5: M | G5: 10D | H5: =VLOOKUP(G5,FINAL!$K$7:$N$157,4,FALSE) -> #N/A | I5: 0.06369213 | J5: 30:34 | K5: 10 | L5: 0:00:37 | M5: 10 | N5: 0:15:37 | O5: 26,11 | P5: 11 | Q5: 1:47:56 | R5: 10 | S5: 0:00:29 | T5: 7 | U5: 0:05:29 | V5: 4:13 | W5: 11
A6: 21 | B6: Pedro Teles | C6: Mx | D6: Clube Desportivo Escola Santana | E6: Vaga 1 / TRANSIÇAO | F6: F | G6: 11A | H6: =VLOOKUP(G6,FINAL!$K$7:$N$157,4,FALSE) -> #N/A | I6: 0.0042361111 | J6: 2:02 | K6: 11 | L6: 0:00:33 | M6: 17 | N6: 0:16:32 | O6: 24,68 | P6: 32 | Q6: 0:23:09 | R6: 11 | S6: 0:00:21 | T6: 4 | U6: 0:06:21 | V6: 4:53 | W6: 30
A7: 31 | B7: Cristina Perestrelo | C7: Mx | D7: Clube Desportivo Escola Santana | E7: Vaga 1 / TRANSIÇAO | F7: M | G7: 11B | H7: =VLOOKUP(G7,FINAL!$K$7:$N$157,4,FALSE) -> #N/A | I7: 0.024525463 | J7: 11:46 | K7: 21 | L7: 0:00:25 | M7: 7 | N7: 0:12:04 | O7: 33,81 | P7: 3 | Q7: 0:47:47 | R7: 21 | S7: 0:00:29 | T7: 20 | U7: 0:04:16 | V7: 3:17 | W7: 3
A8: 3 | B8: Joana Sousa | C8: Mx | D8: Clube Desportivo Escola Santana | E8: Vaga 1 / TRANSIÇAO | F8: F | G8: 11C | H8: =VLOOKUP(G8,FINAL!$K$7:$N$157,4,FALSE) -> #N/A | I8: 0.041215278 | J8: 19:47 | K8: 32 | L8: 0:00:47 | M8: 28 | N8: 0:15:39 | O8: 26,05 | P8: 27 | Q8: 1:15:46 | R8: 31 | S8: 0:00:37 | T8: 29 | U8: 0:05:16 | V8: 4:03 | W8: 19
A9: 14 | B9: Alcidio Ferro | C9: Mx | D9: Clube Desportivo Escola Santana | E9: Vaga 1 / FINAL | F9: M | G9: 11D | H9: =VLOOKUP(G9,FINAL!$K$7:$N$157,4,FALSE) -> #N/A | I9: 0.060636574 | J9: 29:06 | K9: 9 | L9: 0:00:24 | M9: 4 | N9: 0:11:36 | O9: 35,12 | P9: 3 | Q9: 1:39:19 | R9: 8 | S9: 0:00:27 | T9: 6 | U9: 0:04:33 | V9: 3:30 | W9: 6
A10: 25 | B10: Magda Dias | C10: Mx | D10: ACD Jardim da Serra / AD Galomar | E10: Vaga 1 / TRANSIÇAO | F10: F | G10: 1A | H10: =VLOOKUP(G10,FINAL!$K$7:$N$157,4,FALSE) -> #N/A | I10: 0.0030787037 | J10: 1:28 | K10: 3 | L10: 0:00:37 | M10: 23 | N10: 0:12:51 | O10: 31,74 | P10: 10 | Q10: 0:17:53 | R10: 3 | S10: 0:00:24 | T10: 9 | U10: 0:04:32 | V10: 3:29 | W10: 7
A11: 1 | B11: Rina Zijgers | C11: Mx | D11: ACD Jardim da Serra / AD Galomar | E11: Vaga 1 / TRANSIÇAO | F11: M | G11: 1B | H11: =VLOOKUP(G11,FINAL!$K$7:$N$157,4,FALSE) -> #N/A | I11: 0.019594907 | J11: 9:24 | K11: 14 | L11: 0:00:36 | M11: 21 | N11: 0:12:11 | O11: 33,45 | P11: 7 | Q11: 0:40:59 | R11: 14 | S11: 0:00:27 | T11: 16 | U11: 0:04:29 | V11: 3:27 | W11: 5
A12: 12 | B12: Miguel Gouveia | C12: Mx | D12: ACD Jardim da Serra / AD Galomar | E12: Vaga 1 / TRANSIÇAO | F12: F | G12: 1C | H12: =VLOOKUP(G12,FINAL!$K$7:$N$157,4,FALSE) -> #N/A | I12: 0.03525463 | J12: 16:55 | K12: 25 | L12: 0:00:27 | M12: 11 | N12: 0:13:34 | O12: 30,07 | P12: 16 | Q12: 1:04:46 | R12: 25 | S12: 0:00:22 | T12: 5 | U12: 0:05:42 | V12: 4:23 | W12: 25
A13: 23 | B13: Bruna Belo | C13: Mx | D13: ACD Jardim da Serra / AD Galomar | E13: Vaga 1 / FINAL | F13: M | G13: 1D | H13: =VLOOKUP(G13,FINAL!$K$7:$N$157,4,FALSE) -> #N/A | I13: 0.051643519 | J13: 24:47 | K13: 3 | L13: 0:00:31 | M13: 9 | N13: 0:11:51 | O13: 34,42 | P13: 4 | Q13: 1:26:42 | R13: 3 | S13: 0:00:21 | T13: 1 | U13: 0:04:40 | V13: 3:36 | W13: 7
A14: 6 | B14: Carolina Gomes | C14: Mx | D14: Holanda / ADRAP | E14: Vaga 1 / TRANSIÇAO | F14: F | G14: 2A | H14: =VLOOKUP(G14,FINAL!$K$7:$N$157,4,FALSE) -> #N/A | I14: 0.0030324074 | J14: 1:27 | K14: 2 | L14: 0:00:24 | M14: 5 | N14: 0:12:06 | O14: 33,68 | P14: 4 | Q14: 0:16:51 | R14: 1 | S14: 0:00:23 | T14: 6 | U14: 0:04:31 | V14: 3:28 | W14: 6
... A45: 11 | B45: Francisco Correia | C45: Mx | D45: AD Galomar | E45: Vaga 1 / FINAL | F45: M | G45: 9D | H45: =VLOOKUP(G45,FINAL!$K$7:$N$157,4,FALSE) -> #N/A | I45: 0.054490741 | J45: 26:09 | K45: 5 | L45: 0:00:26 | M45: 6 | N45: 0:13:27 | O45: 30,32 | P45: 9 | Q45: 1:32:20 | R45: 5 | S45: 0:00:37 | T45: 11 | U45: 0:05:00 | V45: 3:51 | W45: 9

Sheet TEMPOS FINAIS
A1: Licença | B1: Nº de Chip | C1: Dorsal | E1: Nome | F1: Primeiro Nome | G1: Último Nome | H1: SEXO | I1: Categoria | J1: Clube | K1: NL | L1: RACE | M1: ELEMENTOS DA EQUIPA | N1: DORSAL EQUIPA
A2: 0 | B2: 8AHX0C2 | C2: 1A | E2: Alcidio Ferro | F2: Alcidio | G2: Ferro | H2: M | I2: EST M | J2: Clube Desportivo Escola Santana - Hugo Pita Portas & Automatismos | L2: Estafetas INTERMÉDIAS | M2: Alcidio Ferro / Hugo Pita / Pedro Teles | N2: 1A / 1B / 1C
A3: 0 | B3: 3DNYZTH | C3: 1B | E3: Hugo Pita | F3: Hugo | G3: Pita | H3: M | I3: EST M | J3: Clube Desportivo Escola Santana - Hugo Pita Portas & Automatismos | L3: Estafetas INTERMÉDIAS | M3: Alcidio Ferro / Hugo Pita / Pedro Teles | N3: 1A / 1B / 1C
A4: 0 | B4: 8KH20R1 | C4: 1C | E4: Pedro Teles | F4: Pedro | G4: Teles | H4: M | I4: EST M | J4: Clube Desportivo Escola Santana - Hugo Pita Portas & Automatismos | L4: Estafetas FINAL | M4: Alcidio Ferro / Hugo Pita / Pedro Teles | N4: 1A / 1B / 1C
A5: 0 | B5: 6EN5W3C | C5: 2A | E5: Fábio Pequeneza | F5: Fábio | G5: Pequeneza | H5: M | I5: EST M | J5: Clube Desportivo Escola Santana - Hugo Pita Portas & Automatismos | L5: Estafetas INTERMÉDIAS | M5: Fábio Pequeneza / António Oliveira / Duarte Câmara | N5: 2A / 2B / 2C
A6: 0 | B6: 8RM7P85 | C6: 2B | E6: António Oliveira | F6: António | G6: Oliveira | H6: M | I6: EST M | J6: Clube Desportivo Escola Santana - Hugo Pita Portas & Automatismos | L6: Estafetas INTERMÉDIAS | M6: Fábio Pequeneza / António Oliveira / Duarte Câmara | N6: 2A / 2B / 2C
A7: 0 | B7: 8KH5HFD | C7: 2C | E7: Duarte Câmara | F7: Duarte | G7: Câmara | H7: M | I7: EST M | J7: Clube Desportivo Escola Santana - Hugo Pita Portas & Automatismos | L7: Estafetas FINAL | M7: Fábio Pequeneza / António Oliveira / Duarte Câmara | N7: 2A / 2B / 2C
A8: 0 | B8: 4FN7CWX | C8: 3A | E8: Ivan Correia | F8: Ivan | G8: Correia | H8: M | I8: EST M | J8: Clube Desportivo Escola Santana - Hugo Pita Portas & Automatismos | L8: Estafetas INTERMÉDIAS | M8: Ivan Correia / Luís Mendes / Nuno Figueira | N8: 3A / 3B / 3C
A9: 0 | B9: 3THFZ0A | C9: 3B | E9: Luís Mendes | F9: Luís | G9: Mendes | H9: M | I9: EST M | J9: Clube Desportivo Escola Santana - Hugo Pita Portas & Automatismos | L9: Estafetas INTERMÉDIAS | M9: Ivan Correia / Luís Mendes / Nuno Figueira | N9: 3A / 3B / 3C
A10: 0 | B10: 4NHB9E8 | C10: 3C | E10: Nuno Figueira | F10: Nuno | G10: Figueira | H10: M | I10: EST M | J10: Clube Desportivo Escola Santana - Hugo Pita Portas & Automatismos | L10: Estafetas FINAL | M10: Ivan Correia / Luís Mendes / Nuno Figueira | N10: 3A / 3B / 3C
A11: 0 | B11: 1XH587W | C11: 4A | E11: Óscar Góis | F11: Óscar | G11: Góis | H11: M | I11: EST M | J11: G.D. Corticeiras | L11: Estafetas INTERMÉDIAS | M11: Óscar Góis / Aurélio Davide / Tiago Boulhosa | N11: 4A / 4B / 4C
A12: 0 | B12: 1FNSBHV | C12: 4B | E12: Aurélio Davide | F12: Aurélio | G12: Davide | H12: M | I12: EST M | J12: G.D. Corticeiras | L12: Estafetas INTERMÉDIAS | M12: Óscar Góis / Aurélio Davide / Tiago Boulhosa | N12: 4A / 4B / 4C
A13: 0 | B13: 8WHKH35 | C13: 4C | E13: Tiago Boulhosa | F13: Tiago | G13: Boulhosa | H13: M | I13: EST M | J13: G.D. Corticeiras | L13: Estafetas FINAL | M13: Óscar Góis / Aurélio Davide / Tiago Boulhosa | N13: 4A / 4B / 4C
A14: 0 | B14: 6SH4MZC | C14: 5A | E14: Gonçalo Figueira | F14: Gonçalo | G14: Figueira | H14: M | I14: EST M | J14: G.D. Corticeiras / AD Galomar | K14: NL | L14: Estafetas INTERMÉDIAS | M14: Gonçalo Figueira / Miguel Freitas / Francisco Correia | N14: 5A / 5B / 5C
A15: 0 | B15: 6TNM2MT | C15: 5B | E15: Miguel Freitas | F15: Miguel | G15: Freitas | H15: M | I15: EST M | J15: G.D. Corticeiras / AD Galomar | K15: NL | L15: Estafetas INTERMÉDIAS | M15: Gonçalo Figueira / Miguel Freitas / Francisco Correia | N15: 5A / 5B / 5C
A16: 0 | B16: 1NN9VPC | C16: 5C | E16: Francisco Correia | F16: Francisco | G16: Correia | H16: M | I16: EST M | J16: G.D. Corticeiras / AD Galomar | K16: NL | L16: Estafetas FINAL | M16: Gonçalo Figueira / Miguel Freitas / Francisco Correia | N16: 5A / 5B / 5C
A17: 0 | B17: 6SHC1A1 | C17: 6A | E17: André Ferreira | F17: André | G17: Ferreira | H17: M | I17: EST M | J17: G.D. Corticeiras | L17: Estafetas INTERMÉDIAS | M17: André Ferreira / Duarte Andrade / Rafael Vieira | N17: 6A / 6B / 6C
A18: 0 | B18: 8AHXNTN | C18: 6B | E18: Duarte Andrade | F18: Duarte | G18: Andrade | H18: M | I18: EST M | J18: G.D. Corticeiras | L18: Estafetas INTERMÉDIAS | M18: André Ferreira / Duarte Andrade / Rafael Vieira | N18: 6A / 6B / 6C
A19: 0 | B19: 1FNS87D | C19: 6C | E19: Rafael Vieira | F19: Rafael | G19: Vieira | H19: M | I19: EST M | J19: G.D. Corticeiras | L19: Estafetas FINAL | M19: André Ferreira / Duarte Andrade / Rafael Vieira | N19: 6A / 6B / 6C
A20: 0 | B20: 6TN027E | C20: 7A | E20: Ricardo Quaresma | F20: Ricardo | G20: Quaresma | H20: M | I20: EST M | J20: G.D. Corticeiras | L20: Estafetas INTERMÉDIAS | M20: Ricardo Quaresma / Eduardo Teles / Joaquim Fernandes | N20: 7A / 7B / 7C
A21: 0 | B21: 3GN3WNW | C21: 7B | E21: Eduardo Teles | F21: Eduardo | G21: Teles | H21: M | I21: EST M | J21: G.D. Corticeiras | L21: Estafetas INTERMÉDIAS | M21: Ricardo Quaresma / Eduardo Teles / Joaquim Fernandes | N21: 7A / 7B / 7C
A22: 0 | B22: DK3P95T | C22: 7C | E22: Joaquim Fernandes | F22: Joaquim | G22: Fernandes | H22: M | I22: EST M | J22: G.D. Corticeiras | L22: Estafetas FINAL | M22: Ricardo Quaresma / Eduardo Teles / Joaquim Fernandes | N22: 7A / 7B / 7C
A23: 0 | B23: 3ZH96VY | C23: 8A | E23: Fernando Teixeira | F23: Fernando | G23: Teixeira | H23: M | I23: EST M | J23: G.D. Corticeiras | L23: Estafetas INTERMÉDIAS | M23: Fernando Teixeira / Fábio Barros / Joaquim Silva | N23: 8A / 8B / 8C
A24: 0 | B24: 1FMEKZ8 | C24: 8B | E24: Fábio Barros | F24: Fábio | G24: Barros | H24: M | I24: EST M | J24: G.D. Corticeiras | L24: Estafetas INTERMÉDIAS | M24: Fernando Teixeira / Fábio Barros / Joaquim Silva | N24: 8A / 8B / 8C
A25: 0 | B25: 8MK10AB | C25: 8C | E25: Joaquim Silva | F25: Joaquim | G25: Silva | H25: M | I25: EST M | J25: G.D. Corticeiras | L25: Estafetas FINAL | M25: Fernando Teixeira / Fábio Barros / Joaquim Silva | N25: 8A / 8B / 8C
A26: 0 | B26: 5ENGNZZ | C26: 9A | E26: Joana Alves | F26: Joana | G26: Alves | H26: F | I26: EST F | J26: G.D. Corticeiras | L26: Estafetas INTERMÉDIAS | M26: Joana Alves / Marla Vieira / Angélika Nimmesgern | N26: 9A / 9B / 9C
A27: 0 | B27: 4FN0CMP | C27: 9B | E27: Marla Vieira | F27: Marla | G27: Vieira | H27: F | I27: EST F | J27: G.D. Corticeiras | L27: Estafetas INTERMÉDIAS | M27: Joana Alves / Marla Vieira / Angélika Nimmesgern | N27: 9A / 9B / 9C
A28: 0 | B28: 6YMRMKM | C28: 9C | E28: Angélika Nimmesgern | F28: Angélika | G28: Nimmesgern | H28: F | I28: EST F | J28: G.D. Corticeiras | L28: Estafetas FINAL | M28: Joana Alves / Marla Vieira / Angélika Nimmesgern | N28: 9A / 9B / 9C
A29: 0 | B29: 8AMB844 | C29: 10A | E29: Silvana Silva | F29: Silvana | G29: Silva | H29: M | I29: EST MX | J29: G.D. Corticeiras | K29: NL | L29: Estafetas INTERMÉDIAS | M29: Silvana Silva / Ana Correia / Nélson Fernandes | N29: 10A / 10B / 10C
A30: 0 | B30: 4XNKA1N | C30: 10B | E30: Ana Correia | F30: Ana | G30: Correia | H30: M | I30: EST MX | J30: G.D. Corticeiras | K30: NL | L30: Estafetas INTERMÉDIAS | M30: Silvana Silva / Ana Correia / Nélson Fernandes | N30: 10A / 10B / 10C
A31: 0 | B31: 8MMH7TP | C31: 10C | E31: Nélson Fernandes | F31: Nélson | G31: Fernandes | H31: M | I31: EST MX | J31: G.D. Corticeiras | K31: NL | L31: Estafetas FINAL | M31: Silvana Silva / Ana Correia / Nélson Fernandes | N31: 10A / 10B / 10C
A32: 0 | B32: 6SH4PMM | C32: 11A | E32: Bernardo Teixeira | F32: Bernardo | G32: Teixeira | H32: M | I32: EST M | J32: Clube Futebol Andorinha / AQUIMADEIRA-Solutions | L32: Estafetas INTERMÉDIAS | M32: Bernardo Teixeira / Diego Cisneros / Tiago Serrano | N32: 11A / 11B / 11C
A33: 0 | B33: 3KK50W2 | C33: 11B | E33: Diego Cisneros | F33: Diego | G33: Cisneros | H33: M | I33: EST M | J33: Clube Futebol Andorinha / AQUIMADEIRA-Solutions | L33: Estafetas INTERMÉDIAS | M33: Bernardo Teixeira / Diego Cisneros / Tiago Serrano | N33: 11A / 11B / 11C
A34: 0 | B34: 1XM540S | C34: 11C | D34: 0.055902778 | E34: Tiago Serrano | F34: Tiago | G34: Serrano | H34: M | I34: EST M | J34: Clube Futebol Andorinha / AQUIMADEIRA-Solutions | L34: Estafetas FINAL | M34: Bernardo Teixeira / Diego Cisneros / Tiago Serrano | N34: 11A / 11B / 11C
A35: 0 | B35: 4XMKVEV | C35: 12A | E35: José Silva | F35: José | G35: Silva | H35: M | I35: EST M | J35: Clube Futebol Andorinha / AQUIMADEIRA-Solutions | L35: Estafetas INTERMÉDIAS | M35: José Silva / Christophe Afonso / Mário Baroca | N35: 12A / 12B / 12C
A36: 0 | B36: 3KHG7KC | C36: 12B | E36: Christophe Afonso | F36: Christophe | G36: Afonso | H36: M | I36: EST M | J36: Clube Futebol Andorinha / AQUIMADEIRA-Solutions | L36: Estafetas INTERMÉDIAS | M36: José Silva / Christophe Afonso / Mário Baroca | N36: 12A / 12B / 12C
A37: 0 | B37: 3KMWRD9 | C37: 12C | E37: Mário Baroca | F37: Mário | G37: Baroca | H37: M | I37: EST M | J37: Clube Futebol Andorinha / AQUIMADEIRA-Solutions | L37: Estafetas FINAL | M37: José Silva / Christophe Afonso / Mário Baroca | N37: 12A / 12B / 12C
A38: 0 | B38: 8WN4H3Z | C38: 14A | E38: João Nunes | F38: João | G38: Nunes | H38: M | I38: EST M | J38: Clube Futebol Andorinha / AQUIMADEIRA-Solutions | L38: Estafetas INTERMÉDIAS | M38: João Nunes / Rafael Baroca / João Neves | N38: 14A / 14B / 14C
A39: 0 | B39: 1FMENS1 | C39: 14B | E39: Rafael Baroca | F39: Rafael | G39: Baroca | H39: M | I39: EST M | J39: Clube Futebol Andorinha / AQUIMADEIRA-Solutions | L39: Estafetas INTERMÉDIAS | M39: João Nunes / Rafael Baroca / João Neves | N39: 14A / 14B / 14C
A40: 0 | B40: 8RM75RE | C40: 14C | E40: João Neves | F40: João | G40: Neves | H40: M | I40: EST M | J40: Clube Futebol Andorinha / AQUIMADEIRA-Solutions | L40: Estafetas FINAL | M40: João Nunes / Rafael Baroca / João Neves | N40: 14A / 14B / 14C
A41: 0 | B41: 3ZH924A | C41: 15A | E41: Dino Freitas | F41: Dino | G41: Freitas | H41: M | I41: EST M | J41: Clube Futebol Andorinha / AQUIMADEIRA-Solutions | L41: Estafetas INTERMÉDIAS | M41: Dino Freitas / Abel Kerekes / André Silva | N41: 15A / 15B / 15C
A42: 0 | B42: 4AND9ZS | C42: 15B | E42: Abel Kerekes | F42: Abel | G42: Kerekes | H42: M | I42: EST M | J42: Clube Futebol Andorinha / AQUIMADEIRA-Solutions | L42: Estafetas INTERMÉDIAS | M42: Dino Freitas / Abel Kerekes / André Silva | N42: 15A / 15B / 15C
A43: 0 | B43: 3ZKZNWB | C43: 15C | E43: André Silva | F43: André | G43: Silva | H43: M | I43: EST M | J43: Clube Futebol Andorinha / AQUIMADEIRA-Solutions | L43: Estafetas FINAL | M43: Dino Freitas / Abel Kerekes / André Silva | N43: 15A / 15B / 15C
A44: 0 | B44: 5ENF5MF | C44: 16A | E44: Iolanda Henriques | F44: Iolanda | G44: Henriques | H44: F | I44: EST F | J44: Clube Futebol Andorinha / AQUIMADEIRA-Solutions | L44: Estafetas INTERMÉDIAS | M44: Iolanda Henriques / Carolina Gomes / Filipa Freitas | N44: 16A / 16B / 16C
A45: 0 | B45: 3KKGT3N | C45: 16B | E45: Carolina Gomes | F45: Carolina | G45: Gomes | H45: F | I45: EST F | J45: Clube Futebol Andorinha / AQUIMADEIRA-Solutions | L45: Estafetas INTERMÉDIAS | M45: Iolanda Henriques / Carolina Gomes / Filipa Freitas | N45: 16A / 16B / 16C
A46: 0 | B46: 8WN4P3V | C46: 16C | E46: Filipa Freitas | F46: Filipa | G46: Freitas | H46: F | I46: EST F | J46: Clube Futebol Andorinha / AQUIMADEIRA-Solutions | L46: Estafetas FINAL | M46: Iolanda Henriques / Carolina Gomes / Filipa Freitas | N46: 16A / 16B / 16C
... A57: 0 | B57: 3WK6W8Y | C57: 20B | E57: Ricardo Rosa | F57: Ricardo | G57: Rosa | H57: M | I57: EST M | J57: Ludens Clube de Machico | L57: Estafetas INTERMÉDIAS | M57: Pedro Prioste / Ricardo Rosa / Bruno Freitas | N57: 20A / 20B / 20C
A58: 0 | B58: 3KHWB8N | C58: 20C | D58: 0.054074074 | E58: Bruno Freitas | F58: Bruno | G58: Freitas | H58: M | I58: EST M | J58: Ludens Clube de Machico | L58: Estafetas FINAL | M58: Pedro Prioste / Ricardo Rosa / Bruno Freitas | N58: 20A / 20B / 20C
A59: 0 | B59: 3GHSPW4 | C59: 21A | E59: Rúben Mendonça | F59: Rúben | G59: Mendonça | H59: M | I59: EST M | J59: Ludens Clube de Machico | L59: Estafetas INTERMÉDIAS | M59: Rúben Mendonça / Rodrigo Vieira / Pedro Martins | N59: 21A / 21B / 21C
A60: 0 | B60: 4NNTHEG | C60: 21B | E60: Rodrigo Vieira | F60: Rodrigo | G60: Vieira | H60: M | I60: EST M | J60: Ludens Clube de Machico | L60: Estafetas INTERMÉDIAS | M60: Rúben Mendonça / Rodrigo Vieira / Pedro Martins | N60: 21A / 21B / 21C
A61: 0 | B61: 3KKGTMG | C61: 21C | E61: Pedro Martins | F61: Pedro | G61: Martins | H61: M | I61: EST M | J61: Ludens Clube de Machico | L61: Estafetas FINAL | M61: Rúben Mendonça / Rodrigo Vieira / Pedro Martins | N61: 21A / 21B / 21C
A62: 0 | B62: 2XN8WEC | C62: 22A | E62: Daniel Mendonça | F62: Daniel | G62: Mendonça | H62: M | I62: EST M | J62: Ludens Clube de Machico | L62: Estafetas INTERMÉDIAS | M62: Daniel Mendonça / João Prioste / Ruben Rodrigues | N62: 22A / 22B / 22C
A63: 0 | B63: 8AMXD37 | C63: 22B | E63: João Prioste | F63: João | G63: Prioste | H63: M | I63: EST M | J63: Ludens Clube de Machico | L63: Estafetas INTERMÉDIAS | M63: Daniel Mendonça / João Prioste / Ruben Rodrigues | N63: 22A / 22B / 22C
A64: 0 | B64: 8RNMH3W | C64: 22C | E64: Ruben Rodrigues | F64: Ruben | G64: Rodrigues | H64: M | I64: EST M | J64: Ludens Clube de Machico | L64: Estafetas FINAL | M64: Daniel Mendonça / João Prioste / Ruben Rodrigues | N64: 22A / 22B / 22C
A65: 0 | B65: 6TMNAGK | C65: 23A | E65: José Mendonça | F65: José | G65: Mendonça | H65: M | I65: EST MX | J65: Ludens Clube de Machico | K65: NL | L65: Estafetas INTERMÉDIAS | M65: José Mendonça / Sandra Teixeira / Rodolfo Alves | N65: 23A / 23B / 23C
A66: 0 | B66: 6SH4FNX | C66: 23B | E66: Sandra Teixeira | F66: Sandra | G66: Teixeira | H66: M | I66: EST MX | J66: Ludens Clube de Machico | K66: NL | L66: Estafetas INTERMÉDIAS | M66: José Mendonça / Sandra Teixeira / Rodolfo Alves | N66: 23A / 23B / 23C
A67: 0 | B67: 6YM2W5Y | C67: 23C | E67: Rodolfo Alves | F67: Rodolfo | G67: Alves | H67: M | I67: EST MX | J67: Ludens Clube de Machico | K67: NL | L67: Estafetas FINAL | M67: José Mendonça / Sandra Teixeira / Rodolfo Alves | N67: 23A / 23B / 23C
A68: 0 | B68: 5EMG2YX | C68: 24A | E68: Carla Neves | F68: Carla | G68: Neves | H68: F | I68: EST F | J68: Ludens Clube de Machico | L68: Estafetas INTERMÉDIAS | M68: Carla Neves / Rubina Lara / Mariana Góis | N68: 24A / 24B / 24C
A69: 0 | B69: 8MMV1E6 | C69: 24B | E69: Rubina Lara | F69: Rubina | G69: Lara | H69: F | I69: EST F | J69: Ludens Clube de Machico | L69: Estafetas INTERMÉDIAS | M69: Carla Neves / Rubina Lara / Mariana Góis | N69: 24A / 24B / 24C
A70: 0 | B70: 1XN5Y15 | C70: 24C | E70: Mariana Góis | F70: Mariana | G70: Góis | H70: F | I70: EST F | J70: Ludens Clube de Machico | L70: Estafetas FINAL | M70: Carla Neves / Rubina Lara / Mariana Góis | N70: 24A / 24B / 24C
A71: 0 | B71: 6TM792T | C71: 25A | E71: Frederico Antunes | F71: Frederico | G71: Antunes | H71: M | I71: EST M | J71: Ludens Clube de Machico / AD Galomar | K71: NL | L71: Estafetas INTERMÉDIAS | M71: Frederico Antunes / Artur Vieira / Frederico Luís | N71: 25A / 25B / 25C
A72: 0 | B72: 4XK80N9 | C72: 25B | E72: Artur Vieira | F72: Artur | G72: Vieira | H72: M | I72: EST M | J72: Ludens Clube de Machico / AD Galomar | K72: NL | L72: Estafetas INTERMÉDIAS | M72: Frederico Antunes / Artur Vieira / Frederico Luís | N72: 25A / 25B / 25C
A73: 0 | B73: 8MK1ZV9 | C73: 25C | E73: Frederico Luís | F73: Frederico | G73: Luís | H73: M | I73: EST M | J73: Ludens Clube de Machico / AD Galomar | K73: NL | L73: Estafetas FINAL | M73: Frederico Antunes / Artur Vieira / Frederico Luís | N73: 25A / 25B / 25C
A74: 0 | B74: 4NNTNC3 | C74: 26A | E74: Isabel Silva | F74: Isabel | G74: Silva | H74: F | I74: EST F | J74: AD Galomar | L74: Estafetas INTERMÉDIAS | M74: Isabel Silva / Nélia Freitas / Mafalda Abreu | N74: 26A / 26B / 26C
A75: 0 | B75: 8MMEM2B | C75: 26B | E75: Nélia Freitas | F75: Nélia | G75: Freitas | H75: F | I75: EST F | J75: AD Galomar | L75: Estafetas INTERMÉDIAS | M75: Isabel Silva / Nélia Freitas / Mafalda Abreu | N75: 26A / 26B / 26C
A76: 0 | B76: 1NM94BA | C76: 26C | E76: Mafalda Abreu | F76: Mafalda | G76: Abreu | H76: F | I76: EST F | J76: AD Galomar | L76: Estafetas FINAL | M76: Isabel Silva / Nélia Freitas / Mafalda Abreu | N76: 26A / 26B / 26C
